BEGIN:VCALENDAR
VERSION:2.0
PRODID:icalendar-ruby
CALSCALE:GREGORIAN
METHOD:PUBLISH
BEGIN:VEVENT
DTSTAMP:20260423T112943Z
UID:8-215456@wellworshipcenter.com
DTSTART:20260927T151500Z
DTEND:20260927T170000Z
CLASS:PUBLIC
CREATED:20260422T220125
DESCRIPTION:
LAST-MODIFIED:20260422T220125
LOCATION:
SUMMARY:Sunday Mornings at The Well 
URL;VALUE=URI:https://wellworshipcenter.com/events/sunday-mornings-at-the-w
 ell/2026-09-27
ATTACH;FILENAME=Image-3-12-24-at-9.32-PM.JPEG;FMTTYPE=image/jpeg:https://dq
 5pwpg1q8ru0.cloudfront.net/2025/02/11/17/39/26/6020b875-ba96-4752-a0cf-bba
 c8d31aea6/Image-3-12-24-at-9.32-PM.JPEG
END:VEVENT
END:VCALENDAR
